BEGIN:VCALENDAR
VERSION:2.0
PRODID:-//eventon.com NONSGML v1.0//EN
BEGIN:VEVENT
UID:69e5094205767
DTSTAMP:20260419T165634
DTSTART:20220605T150000Z
DTEND:20220605T215000Z
TZID:Europe/Berlin
LOCATION:Festspielhaus Baden-Baden 
SUMMARY:Wagner concert
DESCRIPTION: Wagner concert\nhttps://staging.camillanylund.com/events/wagner-concert/
URL:https://staging.camillanylund.com/events/wagner-concert/
END:VEVENT
END:VCALENDAR