BEGIN:VCALENDAR
VERSION:2.0
PRODID:-//eventon.com NONSGML v1.0//EN
BEGIN:VEVENT
UID:69e50942057a6
DTSTAMP:20260419T165634
DTSTART:20220216T183000Z
DTEND:20220216T225000Z
TZID:Europe/Berlin
LOCATION:Brucknerhaus Linz Untere Donaulände 7
SUMMARY:Recital
DESCRIPTION: Recital\nhttps://staging.camillanylund.com/events/recital/
URL:https://staging.camillanylund.com/events/recital/
END:VEVENT
END:VCALENDAR