BEGIN:VCALENDAR
VERSION:2.0
PRODID:-//eventon.com NONSGML v1.0//EN
BEGIN:VEVENT
UID:69e508a76583f
DTSTAMP:20260419T165359
DTSTART:20220320T160000Z
DTEND:20220320T225000Z
TZID:Europe/Berlin
LOCATION:Staatsoper Unter den Linden Berlin Unter den Linden 7\,  10117 Berlin\,  GERMANY
SUMMARY:Der Rosenkavalier
DESCRIPTION: Lottas new block bla bla bla\nhttps://staging.camillanylund.com/events/der-rosenkavalier/
URL:https://staging.camillanylund.com/events/der-rosenkavalier/
END:VEVENT
END:VCALENDAR