BEGIN:VCALENDAR
VERSION:2.0
PRODID:-//eventon.com NONSGML v1.0//EN
BEGIN:VEVENT
UID:69e520f55b3e1
DTSTAMP:20260419T183741
DTSTART:20220326T160000Z
DTEND:20220326T170000Z
TZID:Europe/Berlin
LOCATION:Staatsoper Unter den Linden Berlin Unter den Linden 7\,  10117 Berlin\,  GERMANY
SUMMARY:Der Rosenkavalier
DESCRIPTION: Lottas new block bla bla bla\nhttps://staging.camillanylund.com/events/der-rosenkavalier/var/ri-1.l-L1
URL:https://staging.camillanylund.com/events/der-rosenkavalier/var/ri-1.l-L1
END:VEVENT
END:VCALENDAR