BEGIN:VCALENDAR
VERSION:2.0
PRODID:-//eventon.com NONSGML v1.0//EN
BEGIN:VEVENT
UID:69e555cb0a854
DTSTAMP:20260419T222307
DTSTART:20220401T150000Z
DTEND:20220401T160000Z
TZID:Europe/Berlin
LOCATION:Staatsoper Unter den Linden Berlin Unter den Linden 7\,  10117 Berlin\,  GERMANY
SUMMARY:Der Rosenkavalier
DESCRIPTION: Lottas new block bla bla bla\nhttps://staging.camillanylund.com/events/der-rosenkavalier/var/ri-3.l-L1
URL:https://staging.camillanylund.com/events/der-rosenkavalier/var/ri-3.l-L1
END:VEVENT
END:VCALENDAR