BEGIN:VCALENDAR
VERSION:2.0
PRODID:-//eventon.com NONSGML v1.0//EN
BEGIN:VEVENT
UID:69e508e89c0e9
DTSTAMP:20260419T165504
DTSTART:20220116T170000Z
DTEND:20220116T225000Z
TZID:Europe/Berlin
LOCATION:Oper Frankfurt Willy-Brandt-Platz 5
SUMMARY:Erwartung
DESCRIPTION: Lottas new block bla bla bla\nhttps://staging.camillanylund.com/events/erwartung/
URL:https://staging.camillanylund.com/events/erwartung/
END:VEVENT
END:VCALENDAR