BEGIN:VCALENDAR
VERSION:2.0
PRODID:-//eventon.com NONSGML v1.0//EN
BEGIN:VEVENT
UID:69e52050a9f6a
DTSTAMP:20260419T183456
DTSTART:20220120T170000Z
DTEND:20220120T225000Z
TZID:Europe/Berlin
LOCATION:Oper Frankfurt Willy-Brandt-Platz 5
SUMMARY:Erwartung
DESCRIPTION: Lottas new block bla bla bla\nhttps://staging.camillanylund.com/events/erwartung/var/ri-1.l-L1
URL:https://staging.camillanylund.com/events/erwartung/var/ri-1.l-L1
END:VEVENT
END:VCALENDAR