BEGIN:VCALENDAR
VERSION:2.0
PRODID:-//eventon.com NONSGML v1.0//EN
BEGIN:VEVENT
UID:69e53aed921f5
DTSTAMP:20260419T202829
DTSTART:20220123T170000Z
DTEND:20220123T225000Z
TZID:Europe/Berlin
LOCATION:Oper Frankfurt Willy-Brandt-Platz 5
SUMMARY:Erwartung
DESCRIPTION: Lottas new block bla bla bla\nhttps://staging.camillanylund.com/events/erwartung/var/ri-2.l-L1
URL:https://staging.camillanylund.com/events/erwartung/var/ri-2.l-L1
END:VEVENT
END:VCALENDAR