BEGIN:VCALENDAR
VERSION:2.0
PRODID:-//eventon.com NONSGML v1.0//EN
BEGIN:VEVENT
UID:69e5562f71b22
DTSTAMP:20260419T222447
DTSTART:20220128T170000Z
DTEND:20220128T225000Z
TZID:Europe/Berlin
LOCATION:Oper Frankfurt Willy-Brandt-Platz 5
SUMMARY:Erwartung
DESCRIPTION: Lottas new block bla bla bla\nhttps://staging.camillanylund.com/events/erwartung/var/ri-3.l-L1
URL:https://staging.camillanylund.com/events/erwartung/var/ri-3.l-L1
END:VEVENT
END:VCALENDAR