BEGIN:VCALENDAR
VERSION:2.0
PRODID:-//eventon.com NONSGML v1.0//EN
BEGIN:VEVENT
UID:69e5855dd1c27
DTSTAMP:20260420T014605
DTSTART:20220202T170000Z
DTEND:20220202T225000Z
TZID:Europe/Berlin
LOCATION:Oper Frankfurt Willy-Brandt-Platz 5
SUMMARY:Erwartung
DESCRIPTION: Lottas new block bla bla bla\nhttps://staging.camillanylund.com/events/erwartung/var/ri-5.l-L1
URL:https://staging.camillanylund.com/events/erwartung/var/ri-5.l-L1
END:VEVENT
END:VCALENDAR