BEGIN:VCALENDAR
VERSION:2.0
PRODID:-//eventon.com NONSGML v1.0//EN
BEGIN:VEVENT
UID:69e5a03954395
DTSTAMP:20260420T034041
DTSTART:20220205T170000Z
DTEND:20220205T225000Z
TZID:Europe/Berlin
LOCATION:Oper Frankfurt Willy-Brandt-Platz 5
SUMMARY:Erwartung
DESCRIPTION: Lottas new block bla bla bla\nhttps://staging.camillanylund.com/events/erwartung/var/ri-6.l-L1
URL:https://staging.camillanylund.com/events/erwartung/var/ri-6.l-L1
END:VEVENT
END:VCALENDAR