BEGIN:VCALENDAR
VERSION:2.0
PRODID:-//eventon.com NONSGML v1.0//EN
BEGIN:VEVENT
UID:69e508fdb1142
DTSTAMP:20260419T165525
DTSTART:20220313T160000Z
DTEND:20220313T225000Z
TZID:Europe/Berlin
LOCATION:Oper Frankfurt Willy-Brandt-Platz 5
SUMMARY:Die Frau ohne Schatten
DESCRIPTION: Die Frau ohne Schatten\nhttps://staging.camillanylund.com/events/die-frau-ohne-schatten/
URL:https://staging.camillanylund.com/events/die-frau-ohne-schatten/
END:VEVENT
END:VCALENDAR