BEGIN:VCALENDAR
VERSION:2.0
PRODID:-//eventon.com NONSGML v1.0//EN
BEGIN:VEVENT
UID:69e52495dad98
DTSTAMP:20260419T185309
DTSTART:20220318T170000Z
DTEND:20220318T225000Z
TZID:Europe/Berlin
LOCATION:Oper Frankfurt Willy-Brandt-Platz 5
SUMMARY:Die Frau ohne Schatten
DESCRIPTION: Die Frau ohne Schatten\nhttps://staging.camillanylund.com/events/die-frau-ohne-schatten/var/ri-1.l-L1
URL:https://staging.camillanylund.com/events/die-frau-ohne-schatten/var/ri-1.l-L1
END:VEVENT
END:VCALENDAR