BEGIN:VCALENDAR
VERSION:2.0
PRODID:-//eventon.com NONSGML v1.0//EN
BEGIN:VEVENT
UID:69e53bebd0866
DTSTAMP:20260419T203243
DTSTART:20220324T170000Z
DTEND:20220324T225000Z
TZID:Europe/Berlin
LOCATION:Oper Frankfurt Willy-Brandt-Platz 5
SUMMARY:Die Frau ohne Schatten
DESCRIPTION: Die Frau ohne Schatten\nhttps://staging.camillanylund.com/events/die-frau-ohne-schatten/var/ri-2.l-L1
URL:https://staging.camillanylund.com/events/die-frau-ohne-schatten/var/ri-2.l-L1
END:VEVENT
END:VCALENDAR