BEGIN:VCALENDAR
VERSION:2.0
PRODID:-//eventon.com NONSGML v1.0//EN
BEGIN:VEVENT
UID:69e55441b2b01
DTSTAMP:20260419T221633
DTSTART:20220327T160000Z
DTEND:20220327T215000Z
TZID:Europe/Berlin
LOCATION:Oper Frankfurt Willy-Brandt-Platz 5
SUMMARY:Die Frau ohne Schatten
DESCRIPTION: Die Frau ohne Schatten\nhttps://staging.camillanylund.com/events/die-frau-ohne-schatten/var/ri-3.l-L1
URL:https://staging.camillanylund.com/events/die-frau-ohne-schatten/var/ri-3.l-L1
END:VEVENT
END:VCALENDAR