BEGIN:VCALENDAR
VERSION:2.0
PRODID:-//eventon.com NONSGML v1.0//EN
BEGIN:VEVENT
UID:69e56c8399985
DTSTAMP:20260420T000003
DTSTART:20220402T160000Z
DTEND:20220402T215000Z
TZID:Europe/Berlin
LOCATION:Oper Frankfurt Willy-Brandt-Platz 5
SUMMARY:Die Frau ohne Schatten
DESCRIPTION: Die Frau ohne Schatten\nhttps://staging.camillanylund.com/events/die-frau-ohne-schatten/var/ri-4.l-L1
URL:https://staging.camillanylund.com/events/die-frau-ohne-schatten/var/ri-4.l-L1
END:VEVENT
END:VCALENDAR