BEGIN:VCALENDAR
VERSION:2.0
PRODID:-//eventon.com NONSGML v1.0//EN
BEGIN:VEVENT
UID:69e509033e6d7
DTSTAMP:20260419T165531
DTSTART:20220212T160000Z
DTEND:20220212T225000Z
TZID:Europe/Berlin
LOCATION:Deutsche Oper Berlin Bismarckstraße 35
SUMMARY:Tannhäuser und der Sängerkrieg auf Wartburg
DESCRIPTION: Tannhäuser und der Sängerkrieg auf Wartburg\nhttps://staging.camillanylund.com/events/tannhauser-und-der-sangerkrieg-auf-wartburg/
URL:https://staging.camillanylund.com/events/tannhauser-und-der-sangerkrieg-auf-wartburg/
END:VEVENT
END:VCALENDAR