BEGIN:VCALENDAR
VERSION:2.0
PRODID:-//eventon.com NONSGML v1.0//EN
BEGIN:VEVENT
UID:69e526a231841
DTSTAMP:20260419T190154
DTSTART:20220220T160000Z
DTEND:20220220T225000Z
TZID:Europe/Berlin
LOCATION:Deutsche Oper Berlin Bismarckstraße 35
SUMMARY:Tannhäuser und der Sängerkrieg auf Wartburg
DESCRIPTION: Tannhäuser und der Sängerkrieg auf Wartburg\nhttps://staging.camillanylund.com/events/tannhauser-und-der-sangerkrieg-auf-wartburg/var/ri-1.l-L1
URL:https://staging.camillanylund.com/events/tannhauser-und-der-sangerkrieg-auf-wartburg/var/ri-1.l-L1
END:VEVENT
END:VCALENDAR