BEGIN:VCALENDAR
VERSION:2.0
PRODID:-//eventon.com NONSGML v1.0//EN
BEGIN:VEVENT
UID:69e5096119a1f
DTSTAMP:20260419T165705
DTSTART:20220225T190000Z
DTEND:20220225T225000Z
TZID:Europe/Berlin
LOCATION:Isarphilharmonie München Hans-Preißinger-Straße 8
SUMMARY:Concert with Münchner Philharmoniker
DESCRIPTION: Concert with Münchner Philharmoniker\nhttps://staging.camillanylund.com/events/concert-with-munchner-philharmoniker/
URL:https://staging.camillanylund.com/events/concert-with-munchner-philharmoniker/
END:VEVENT
END:VCALENDAR