BEGIN:VCALENDAR
VERSION:2.0
PRODID:-//eventon.com NONSGML v1.0//EN
BEGIN:VEVENT
UID:69e522fb45e89
DTSTAMP:20260419T184619
DTSTART:20220226T180000Z
DTEND:20220226T225000Z
TZID:Europe/Berlin
LOCATION:Isarphilharmonie München Hans-Preißinger-Straße 8
SUMMARY:Concert with Münchner Philharmoniker
DESCRIPTION: Concert with Münchner Philharmoniker\nhttps://staging.camillanylund.com/events/concert-with-munchner-philharmoniker/var/ri-1.l-L1
URL:https://staging.camillanylund.com/events/concert-with-munchner-philharmoniker/var/ri-1.l-L1
END:VEVENT
END:VCALENDAR