BEGIN:VCALENDAR
VERSION:2.0
PRODID:-//eventon.com NONSGML v1.0//EN
BEGIN:VEVENT
UID:69e53d8ab5287
DTSTAMP:20260419T203938
DTSTART:20220227T100000Z
DTEND:20220227T125000Z
TZID:Europe/Berlin
LOCATION:Isarphilharmonie München Hans-Preißinger-Straße 8
SUMMARY:Concert with Münchner Philharmoniker
DESCRIPTION: Concert with Münchner Philharmoniker\nhttps://staging.camillanylund.com/events/concert-with-munchner-philharmoniker/var/ri-2.l-L1
URL:https://staging.camillanylund.com/events/concert-with-munchner-philharmoniker/var/ri-2.l-L1
END:VEVENT
END:VCALENDAR