BEGIN:VCALENDAR
VERSION:2.0
PRODID:-//eventon.com NONSGML v1.0//EN
BEGIN:VEVENT
UID:69e509033f7bc
DTSTAMP:20260419T165531
DTSTART:20220412T170000Z
DTEND:20220412T215000Z
TZID:Europe/Berlin
LOCATION:Osterfestspiele Salzburg Hofstallgasse 1
SUMMARY:Choral Concert Thielemann
DESCRIPTION: Choral Concert Thielemann\nhttps://staging.camillanylund.com/events/choral-concert-thielemann/
URL:https://staging.camillanylund.com/events/choral-concert-thielemann/
END:VEVENT
END:VCALENDAR