BEGIN:VCALENDAR
VERSION:2.0
PRODID:-//eventon.com NONSGML v1.0//EN
BEGIN:VEVENT
UID:69e5239c2cef4
DTSTAMP:20260419T184900
DTSTART:20220415T170000Z
DTEND:20220415T215000Z
TZID:Europe/Berlin
LOCATION:Osterfestspiele Salzburg Hofstallgasse 1
SUMMARY:Choral Concert Thielemann
DESCRIPTION: Choral Concert Thielemann\nhttps://staging.camillanylund.com/events/choral-concert-thielemann/var/ri-1.l-L1
URL:https://staging.camillanylund.com/events/choral-concert-thielemann/var/ri-1.l-L1
END:VEVENT
END:VCALENDAR