BEGIN:VCALENDAR
VERSION:2.0
PRODID:-//eventon.com NONSGML v1.0//EN
BEGIN:VEVENT
UID:69e5211b312e1
DTSTAMP:20260419T183819
DTSTART:20220522T150000Z
DTEND:20220522T215000Z
TZID:Europe/Berlin
LOCATION:Deutsche Oper Berlin Bismarckstraße 35
SUMMARY:Lohengrin
DESCRIPTION: Lohengrin\nhttps://staging.camillanylund.com/events/lohengrin/var/ri-1.l-L1
URL:https://staging.camillanylund.com/events/lohengrin/var/ri-1.l-L1
END:VEVENT
END:VCALENDAR