BEGIN:VCALENDAR
VERSION:2.0
PRODID:-//eventon.com NONSGML v1.0//EN
BEGIN:VEVENT
UID:69e5243892556
DTSTAMP:20260419T185136
DTSTART:20220214T190000Z
DTEND:20220214T225000Z
TZID:Europe/Berlin
LOCATION:Sächische Staatskapelle Dresden Theaterplatz 2
SUMMARY:Die Pforten der Ewigkeit
DESCRIPTION: Die Pforten der Ewigkeit\nhttps://staging.camillanylund.com/events/die-pforten-der-ewigkeit/var/ri-1.l-L1
URL:https://staging.camillanylund.com/events/die-pforten-der-ewigkeit/var/ri-1.l-L1
END:VEVENT
END:VCALENDAR