BEGIN:VCALENDAR
VERSION:2.0
PRODID:-//eventon.com NONSGML v1.0//EN
BEGIN:VEVENT
UID:69e508e06c119
DTSTAMP:20260419T165456
DTSTART:20220427T170000Z
DTEND:20220427T215000Z
TZID:Europe/Berlin
LOCATION:Musiikkitalo Helsinki Mannerheimintie 13a
SUMMARY:Vier letzte Lieder
DESCRIPTION: Vier letzte Lieder\nhttps://staging.camillanylund.com/events/vier-letzte-lieder/
URL:https://staging.camillanylund.com/events/vier-letzte-lieder/
END:VEVENT
END:VCALENDAR