BEGIN:VCALENDAR
VERSION:2.0
PRODID:-//eventon.com NONSGML v1.0//EN
BEGIN:VEVENT
UID:69e524d999915
DTSTAMP:20260419T185417
DTSTART:20220501T090000Z
DTEND:20220501T115000Z
TZID:Europe/Berlin
LOCATION:Musikverein\,  Großer Saal\,  Wien Bösendorferstraße 12
SUMMARY:Concert with Wiener Philharmoniker
DESCRIPTION: Concert with Wiener Philharmoniker\nhttps://staging.camillanylund.com/events/concert-with-wiener-philharmoniker/var/ri-1.l-L1
URL:https://staging.camillanylund.com/events/concert-with-wiener-philharmoniker/var/ri-1.l-L1
END:VEVENT
END:VCALENDAR