BEGIN:VCALENDAR
VERSION:2.0
PRODID:-//eventon.com NONSGML v1.0//EN
BEGIN:VEVENT
UID:69e508fdb1b03
DTSTAMP:20260419T165525
DTSTART:20220502T173000Z
DTEND:20220502T215000Z
TZID:Europe/Berlin
LOCATION:Musikverein\,  Großer Saal\,  Wien Bösendorferstraße 12
SUMMARY:Concert with Wiener Philharmoniker
DESCRIPTION: Concert with Wiener Philharmoniker\nhttps://staging.camillanylund.com/events/concert-with-wiener-philharmoniker-2022-05-02/
URL:https://staging.camillanylund.com/events/concert-with-wiener-philharmoniker-2022-05-02/
END:VEVENT
END:VCALENDAR