BEGIN:VCALENDAR
VERSION:2.0
PRODID:-//eventon.com NONSGML v1.0//EN
BEGIN:VEVENT
UID:69e53de1a3222
DTSTAMP:20260419T204105
DTSTART:20220702T150000Z
DTEND:20220702T175000Z
TZID:Europe/Berlin
LOCATION:Opernhaus Zürich Sechseläutenplatz 1\,  8008 Zürich\,  SWITZERLAND
SUMMARY:Tristan und Isolde
DESCRIPTION: Tristan und Isolde\nhttps://staging.camillanylund.com/events/tristan-und-isolde-zurich-2022-06/var/ri-2.l-L1
URL:https://staging.camillanylund.com/events/tristan-und-isolde-zurich-2022-06/var/ri-2.l-L1
END:VEVENT
END:VCALENDAR