BEGIN:VCALENDAR
VERSION:2.0
PRODID:-//eventon.com NONSGML v1.0//EN
BEGIN:VEVENT
UID:69e5569c9e564
DTSTAMP:20260419T222636
DTSTART:20220706T160000Z
DTEND:20220706T185000Z
TZID:Europe/Berlin
LOCATION:Opernhaus Zürich Sechseläutenplatz 1\,  8008 Zürich\,  SWITZERLAND
SUMMARY:Tristan und Isolde
DESCRIPTION: Tristan und Isolde\nhttps://staging.camillanylund.com/events/tristan-und-isolde-zurich-2022-06/var/ri-3.l-L1
URL:https://staging.camillanylund.com/events/tristan-und-isolde-zurich-2022-06/var/ri-3.l-L1
END:VEVENT
END:VCALENDAR