BEGIN:VCALENDAR
VERSION:2.0
PRODID:-//eventon.com NONSGML v1.0//EN
BEGIN:VEVENT
UID:69e570fddf577
DTSTAMP:20260420T001909
DTSTART:20220709T153000Z
DTEND:20220709T175000Z
TZID:Europe/Berlin
LOCATION:Opernhaus Zürich Sechseläutenplatz 1\,  8008 Zürich\,  SWITZERLAND
SUMMARY:Tristan und Isolde
DESCRIPTION: Tristan und Isolde\nhttps://staging.camillanylund.com/events/tristan-und-isolde-zurich-2022-06/var/ri-4.l-L1
URL:https://staging.camillanylund.com/events/tristan-und-isolde-zurich-2022-06/var/ri-4.l-L1
END:VEVENT
END:VCALENDAR