BEGIN:VCALENDAR
VERSION:2.0
PRODID:-//eventon.com NONSGML v1.0//EN
BEGIN:VEVENT
UID:69e508e07b6b8
DTSTAMP:20260419T165456
DTSTART:20220728T150000Z
DTEND:20220728T215000Z
TZID:Europe/Berlin
LOCATION:Bayerische Staatsoper Max-Joseph-Platz 2
SUMMARY:Die Frau ohne Schatten
DESCRIPTION: Die Frau ohne Schatten\nhttps://staging.camillanylund.com/events/die-frau-ohne-schatten-munchen-2022-07-28/
URL:https://staging.camillanylund.com/events/die-frau-ohne-schatten-munchen-2022-07-28/
END:VEVENT
END:VCALENDAR